BEGIN:VCALENDAR
VERSION:2.0
CALSCALE:GREGORIAN
PRODID:-//MyApp//Calendar 1.0//EN
BEGIN:VEVENT
METHOD:PUBLISH
UID:40864@regionalniportaly.cz
DTSTAMP:20260421T161156Z
DTSTART;VALUE=DATE:20240323
DTEND;VALUE=DATE:20240324
SUMMARY:Purim - oslava židovského svátku
DESCRIPTION:
LOCATION:Třebíč
END:VEVENT
END:VCALENDAR