BEGIN:VCALENDAR
VERSION:2.0
CALSCALE:GREGORIAN
PRODID:-//MyApp//Calendar 1.0//EN
BEGIN:VEVENT
METHOD:PUBLISH
UID:41145@regionalniportaly.cz
DTSTAMP:20260422T082443Z
DTSTART;VALUE=DATE:20240411
DTEND;VALUE=DATE:20240412
SUMMARY:Pocta houslím
DESCRIPTION:18.00 – Foyer divadla Pasáž                       III. koncert KPH\n \nMiroslav Vilímec – housle\, Vladislav Vilímec - klavír\nEmeritní koncertní mistr České filharmonie uvede virtuózní program "Pocta  legendárnímu českému houslistovi Františku Ondříčkovi".\nVstupné: 180 Kč\, děti\, studenti\, senioři: 140 Kč\nPředprodej od 14. 3. 2024
LOCATION:Třebíč
END:VEVENT
END:VCALENDAR