BEGIN:VCALENDAR
VERSION:2.0
CALSCALE:GREGORIAN
PRODID:-//MyApp//Calendar 1.0//EN
BEGIN:VEVENT
METHOD:PUBLISH
UID:41605@regionalniportaly.cz
DTSTAMP:20260420T015136Z
DTSTART;VALUE=DATE:20240413
DTEND;VALUE=DATE:20240414
SUMMARY:Sbírka potravin
DESCRIPTION:Oblastní charita Třebíč bude mít opět své stanoviště v hypermarketu KAUFLAND v Třebíči ve STOP SHOP areálu na Spojovací ul. 1345. Pracovníci a dobrovolníci v zelených zástěrách s logem Sbírky potravin zde budou přebírat darované věci od 8–18 hod.
LOCATION:Třebíč
END:VEVENT
END:VCALENDAR