BEGIN:VCALENDAR
VERSION:2.0
CALSCALE:GREGORIAN
PRODID:-//MyApp//Calendar 1.0//EN
BEGIN:VEVENT
METHOD:PUBLISH
UID:41834@regionalniportaly.cz
DTSTAMP:20260422T095659Z
DTSTART;VALUE=DATE:20240513
DTEND;VALUE=DATE:20240514
SUMMARY:Ondřej Fencl a Hromosvod
DESCRIPTION:Hromosvod je zhudebněné srdce dvaačtyřicetiletého zpěváka\, klávesisty\, kytaristy\, textaře a skladatele Ondřeje Fencla\, známého například ze spolupráce s Lubošem Pospíšilem\, Vladimírem Mertou\, Janem Hrubým\, Oskarem Petrem nebo skupinou Schodiště.  Hromosvod vznikl v listopadu 1994 v šatně pražské ZŠ Horáčkova. Nejdřív to byl "kinderfolk"\, posléze folk-rock charakteristický souzvuky houslí\, příčné flétny a říznými bubny. Dnes je Hromosvod plný zručných sidemanů  a hraje prostě písničky. Citlivě\, barevně\, něžně i divoce. Nejnovější šesté řadové CD Sen nenasytných kluků (v recenzích nejednou titulované jako album roku) přináší čirou radost - z hudby\, z písní\, z muzikality.  Zpěváka\, kytaristu a klávesistu Fencla doprovází na elektrickou kytaru Vojtěch Jindra (m.j. Bran)\, na housle Hana K. Vyšínská (m.j. Inflagranti)\, na basu Jaryn Janek (m.j. K. Střihavka\, Krucipüsk…) a liberecký bubenický matador Tomáš Marek (ex-Lucie\, Kollerband...). "Texty plné vnitřních rýmů a nevšedních obratů\, uvěřitelný zpěv\, virtuózní housle\, knopflerovská kytara a nekompromisní rytmika - to je dnešní Hromosvod\," napsal nedávno o současné sestavě nestor Zdeněk Vřešťál (Nerez).\nVstupné: 270 / 280 / 290 Kč\n Vstupenky již v prodeji\nNárodní dům\, začátek v 19 hodin
LOCATION:Třebíč
END:VEVENT
END:VCALENDAR