BEGIN:VCALENDAR
VERSION:2.0
CALSCALE:GREGORIAN
PRODID:-//MyApp//Calendar 1.0//EN
BEGIN:VEVENT
METHOD:PUBLISH
UID:41836@regionalniportaly.cz
DTSTAMP:20260422T095740Z
DTSTART;VALUE=DATE:20240524
DTEND;VALUE=DATE:20240526
SUMMARY:Svátky hudby s Václavem Hudečkem
DESCRIPTION:Pátek 24. 5. 2024 v 19.00 – Divadlo PasážROCKO BAROCCO „FASCINUJÍCÍ TVÁŘE HUDBY“BAROCO SEMPRE GIOVANEGABRIELA VERMELHO – zpěvVÁCLAV HUDEČEK – housleVstupné: 250/280 Kč\; senioři: 220/250 Kč\n \n \nSobota 25. 5. 2024 v 19.00 – Foyer divadla PasážSLAVNÉ MUZIKANTSKÉ RODINY „KLAN KLÁNSKÝCH“DANIEL KLÁNSKÝ – basbarytonKLÁRA KLÁNSKÁ – housleLUKÁŠ KLÁNSKÝ – klavírVÁCLAV HUDEČEK – housleVstupné: 220 Kč\; senioři: 180 Kč\n \n \nNeděle 26. 5. 2024 v 19 hodin – Bazilika sv. ProkopaVRCHOL KOMORNÍ HUDBY – KUKAL QUARTETELIŠKA KUKALOVÁ – housleKLÁRA LEŠKOVÁ – housleDANIEL MACHO – violaFILIP RUFER – violoncelloVÁCLAV HUDEČEK – housleVstupné: 250 Kč\; senioři: 220 Kč\n 
LOCATION:Třebíč
END:VEVENT
END:VCALENDAR