BEGIN:VCALENDAR
VERSION:2.0
CALSCALE:GREGORIAN
PRODID:-//MyApp//Calendar 1.0//EN
BEGIN:VEVENT
METHOD:PUBLISH
UID:41838@regionalniportaly.cz
DTSTAMP:20260422T012027Z
DTSTART;VALUE=DATE:20240924
DTEND;VALUE=DATE:20240925
SUMMARY:P.S. Iveta
DESCRIPTION:VZPOMÍNKOVÝ PROJEKT VĚNOVANÝ IVETĚ BARTOŠOVÉ\n Unikátní projekt\, ve kterém se dalo dohromady 7 skvělých muzikantů\, aby zavzpomínali na "slavici" Ivetu Bartošovou. Hudební vzpomínka na Ivetu Bartošovou v podání účastnice první řady Superstar Šárky Vaňkové. Na koncertě zazní největší hity Ivety Bartošové. Šárku v tomto projektu doprovází bývalý kapelník Ivety Bartošové\, Fredy Bittner a další ostřílení muzikanti\, kteří se na tento projekt dali dohromady a říkají si Fredy Bittner band.
LOCATION:Třebíč
END:VEVENT
END:VCALENDAR