BEGIN:VCALENDAR
VERSION:2.0
CALSCALE:GREGORIAN
PRODID:-//MyApp//Calendar 1.0//EN
BEGIN:VEVENT
METHOD:PUBLISH
UID:41839@regionalniportaly.cz
DTSTAMP:20260422T123919Z
DTSTART;VALUE=DATE:20241127
DTEND;VALUE=DATE:20241128
SUMMARY:Eva Urbanová & Barock - Zrušeno !!!!
DESCRIPTION:DŮLEŽITÉ UPOZORNĚNÍ: Koncert se ze zdravotních důvodů Evy Urbanové neuskuteční. Koncert bude odehrán v náhradním termínu\, o kterém vás budeme včas informovat. Vstupenky zůstávají v platnosti. Děkujeme za pochopení.\n \nROCKOVĚ - POPOVÝ PROJEKT DRUHÁ TVÁŘ S KAPELOU BAROCKProměna první dámy české opery v rockovou star v novém projektu Evy Urbanové nabídne koncert nabitý rockovými a popovými songy. Operní diva světového formátu Eva Urbanová zazáří v exkluzivním pořadu Druhá tvář s muzikantsky skvěle obsazenou formací BAROCK.\nHutný zvuk klasických smyčcových nástrojů se sóly koncertního mistra brněnské filharmonie a skvělá rytmická sekce v čele s kytaristou a frontmanem AC/CZ Tribute Adamem Malíkem vytváří pěvkyni spolehlivé zázemí pro uplatnění všech barev jejího skvělého hlasu v legendárních popových a rockových hitech kapel QUEEN\, Nightwish\, Nazareth\, Scorpions či pěveckých legend Andrei Bocceliho\, Il divo a mnoha dalších.
LOCATION:Třebíč
END:VEVENT
END:VCALENDAR