BEGIN:VCALENDAR
VERSION:2.0
CALSCALE:GREGORIAN
PRODID:-//MyApp//Calendar 1.0//EN
BEGIN:VEVENT
METHOD:PUBLISH
UID:41927@regionalniportaly.cz
DTSTAMP:20260421T161249Z
DTSTART;VALUE=DATE:20240428
DTEND;VALUE=DATE:20240429
SUMMARY:Svátek Pesach
DESCRIPTION:
LOCATION:Třebíč
END:VEVENT
END:VCALENDAR