BEGIN:VCALENDAR
VERSION:2.0
CALSCALE:GREGORIAN
PRODID:-//MyApp//Calendar 1.0//EN
BEGIN:VEVENT
METHOD:PUBLISH
UID:42089@regionalniportaly.cz
DTSTAMP:20260420T015806Z
DTSTART;VALUE=DATE:20240501
DTEND;VALUE=DATE:20240502
SUMMARY:Společná procházka po trase spojující třebíčská VVV
DESCRIPTION:
LOCATION:Třebíč
END:VEVENT
END:VCALENDAR