BEGIN:VCALENDAR
VERSION:2.0
CALSCALE:GREGORIAN
PRODID:-//MyApp//Calendar 1.0//EN
BEGIN:VEVENT
METHOD:PUBLISH
UID:42115@regionalniportaly.cz
DTSTAMP:20260423T164323Z
DTSTART;VALUE=DATE:20240504
DTEND;VALUE=DATE:20240505
SUMMARY:Po stopách elektřiny
DESCRIPTION:
LOCATION:Dukovany
END:VEVENT
END:VCALENDAR