BEGIN:VCALENDAR
VERSION:2.0
CALSCALE:GREGORIAN
PRODID:-//MyApp//Calendar 1.0//EN
BEGIN:VEVENT
METHOD:PUBLISH
UID:42659@regionalniportaly.cz
DTSTAMP:20260421T161239Z
DTSTART;VALUE=DATE:20240529
DTEND;VALUE=DATE:20240608
SUMMARY:Na kole dětem
DESCRIPTION:Do Třebíče peloton cyklistů dorazí ve středu 5. června\, ze směru od Želetavy\, kolem 17:00\, kde cílovou stanicí bude Karlovo náměstí. Po načerpání sil budou cyklisté vyrážet na další etapu ve čtvrtek 6. června v 8:00 od budovy radnice na Karlově náměstí s cílem dne Znojmo (Třebíč – Budišov – elektrárna Dukovany – Rouchovany – Moravský Krumlov - Hostěradice – Znojmo 108 km).
LOCATION:Třebíč
END:VEVENT
END:VCALENDAR