BEGIN:VCALENDAR
VERSION:2.0
CALSCALE:GREGORIAN
PRODID:-//MyApp//Calendar 1.0//EN
BEGIN:VEVENT
METHOD:PUBLISH
UID:42773@regionalniportaly.cz
DTSTAMP:20260420T001737Z
DTSTART;VALUE=DATE:20240519
DTEND;VALUE=DATE:20240520
SUMMARY:Vzpomínková akce k uctění obětí holocaustu
DESCRIPTION:
LOCATION:Třebíč
END:VEVENT
END:VCALENDAR