BEGIN:VCALENDAR
VERSION:2.0
CALSCALE:GREGORIAN
PRODID:-//MyApp//Calendar 1.0//EN
BEGIN:VEVENT
METHOD:PUBLISH
UID:43096@regionalniportaly.cz
DTSTAMP:20260422T082452Z
DTSTART;VALUE=DATE:20240616
DTEND;VALUE=DATE:20240617
SUMMARY:PRVNÍ KONCERT sezóny orchestru Virtuosi Trebicenses
DESCRIPTION:Orchestr Virtuosi Trebicenses Vás srdečně zve na svůj první koncert sezóny.Tímto koncertem zahajuje svoji sedmou sezónu\, ve kterém se můžete těšit nejen na tvorbu pro smyčcový orchestr\, ale i na skvělé sólisty.Program je připraven z děl autorů J. Myslivečka\, E. Elgara\,&nbsp\;P. Glasse a G. Holsta.Těšíme se na Vás
LOCATION:Třebíč
END:VEVENT
END:VCALENDAR