BEGIN:VCALENDAR
VERSION:2.0
CALSCALE:GREGORIAN
PRODID:-//MyApp//Calendar 1.0//EN
BEGIN:VEVENT
METHOD:PUBLISH
UID:44199@regionalniportaly.cz
DTSTAMP:20260422T111224Z
DTSTART;VALUE=DATE:20240815
DTEND;VALUE=DATE:20240816
SUMMARY:Vlevo dole - politický podcast
DESCRIPTION:Politické kauzy\, boje o vliv i šeptanda z kuloárů Sněmovny. Podcast Lucie Stuchlíkové a Václava Dolejšího o zákulisí české politiky vydávaný na Seznam Zprávách vyráží za svými fanoušky do Třebíče. Rezervace míst už je spuštěna.Čtvrtek 15. srpna 2024 v 17 hodin na Šmeralově statku. Vstup zdarma.
LOCATION:Třebíč
END:VEVENT
END:VCALENDAR