BEGIN:VCALENDAR
VERSION:2.0
CALSCALE:GREGORIAN
PRODID:-//MyApp//Calendar 1.0//EN
BEGIN:VEVENT
METHOD:PUBLISH
UID:44200@regionalniportaly.cz
DTSTAMP:20260422T095730Z
DTSTART;VALUE=DATE:20240817
DTEND;VALUE=DATE:20240818
SUMMARY:Strašidlo Cantervillské
DESCRIPTION:Divadelní komedie na zámku pod širým nebem s opravdovými herci a živým strašidlem. Sobota 17. srpna od 19:30.
LOCATION:Třebíč
END:VEVENT
END:VCALENDAR