BEGIN:VCALENDAR
VERSION:2.0
CALSCALE:GREGORIAN
PRODID:-//MyApp//Calendar 1.0//EN
BEGIN:VEVENT
METHOD:PUBLISH
UID:44201@regionalniportaly.cz
DTSTAMP:20260422T124214Z
DTSTART;VALUE=DATE:20240819
DTEND;VALUE=DATE:20240823
SUMMARY:SEZAM - příměstský tábor pro seniory
DESCRIPTION:Tábor proběhne od 9:00 do 13:00. Na každý den je připraveno jiné téma\, které se vztahuje k muzeu\, městu a okolí. Přihlásit se můžete buď na celý týden nebo na jednotlivé dny.\nBližní informace naleznete v přiloženém letáčku a na webu.\nCena: 200 Kč/den.
LOCATION:Třebíč
END:VEVENT
END:VCALENDAR