BEGIN:VCALENDAR
VERSION:2.0
CALSCALE:GREGORIAN
PRODID:-//MyApp//Calendar 1.0//EN
BEGIN:VEVENT
METHOD:PUBLISH
UID:44202@regionalniportaly.cz
DTSTAMP:20260421T133857Z
DTSTART;VALUE=DATE:20240923
DTEND;VALUE=DATE:20240924
SUMMARY:Komorní divadlo Kalich Praha: Tik tik
DESCRIPTION:Originální komedie z čekárny u psychiatra\n KOMORNÍ DIVADLO KALICH PRAHALaurent Baffie: TIK TIKHrají: Tereza Kostková\, Kristýna Frejová\, Šárka Kubíková\, Václav Knop\, Josef Polášek\, Jaromír Nosek Režie: Jakub Nvota\nKomedie TIK TIK upoutá diváky hned na začátku svou neobvyklostí i živým humorem. V čekárně psychiatra se setkávají tři muži a tři ženy\, různého věku\, zaměstnání\, osudu. Spojuje je stejný problém: trpí „tikem“\, chcete-li obsedantní neurózou\, s kterou se těžko žije. Starší vydavatel chrlí v nevhodnou dobu sprostá slova\, taxikář vše přeměňuje v čísla\, žena si stále ze strachu před bakteriemi myje ruce\, druhá kontroluje kabelku a žije ve stresu\, že zapomněla vypnout plyn\, zamknout byt\, mladý muž nesmí stoupnout na čáru a dívka\, která opakuje své koncové věty. Všichni věří v pomoc světoznámého odborníka\, u kterého se museli objednat dlouho předem. Jenže ten se omluvil za zpoždění letadla a také jeho následná cesta autem znamená časové zdržení. Pacienti překonávají zábrany a seznamují se vzájemně se svými „tiky“. Během dlouhého čekání hrají i „monopoly“ a nakonec se sami pokusí o skupinovou terapii\, při které své obsese dramaticky a za fandění těch druhých alespoň na chvíli překonávají. Do komických situací probleskuje snaha o vzájemnou pomoc a pocit\, že nejsou se svými problémy sami se proměňuje v přesvědčení\, jak důležité je najít v sobě odvahu navázat přátelství\, možná i lásku…
LOCATION:Třebíč
END:VEVENT
END:VCALENDAR