BEGIN:VCALENDAR
VERSION:2.0
CALSCALE:GREGORIAN
PRODID:-//MyApp//Calendar 1.0//EN
BEGIN:VEVENT
METHOD:PUBLISH
UID:44203@regionalniportaly.cz
DTSTAMP:20260422T154917Z
DTSTART;VALUE=DATE:20241215
DTEND;VALUE=DATE:20241216
SUMMARY:Screamers "Ta umí to a ten zas tohle"
DESCRIPTION:Nová zábavná show "Ta umí to a ten zas tohle" legendární travesti-divadelní skupiny Screamers! Přesvědčte se sami\, že není práce bez legrace a každá profese nabízí mnoho důvodů k dobré zábavě!\n \nCena senioři:200\,-/230\,- Kč\nCena normal:250\,-/280\,- Kč 
LOCATION:Třebíč
END:VEVENT
END:VCALENDAR