BEGIN:VCALENDAR
VERSION:2.0
CALSCALE:GREGORIAN
PRODID:-//MyApp//Calendar 1.0//EN
BEGIN:VEVENT
METHOD:PUBLISH
UID:44204@regionalniportaly.cz
DTSTAMP:20260422T095711Z
DTSTART;VALUE=DATE:20240705
DTEND;VALUE=DATE:20240707
SUMMARY:Svatoprokopská pouť
DESCRIPTION:Řemeslné trhy 5. - 7. 7.  od 10:00 do 17:00\n \n5. 7. Prohlídky trpasličí galerie v 10:00\, 13:00 a 16:00\n6. 7. Kostýmované prohlídky v 16:00 a 17:00\nNa prohlídky je nutné se předem objednat na tel.: 568 610 022\, infobazilika@mkstrebic.cz.\n \n \nPROGRAM\n \nSobota 6. 7. 202412:00 - 18:00 Dřevěná herní dílna KAŠPAŘI - kuličkodráha\, střelba na dřevěný hrad a další (interaktivní barevné dovednostní hry\, 5 her)13:00 Umění mistra chůdaře (30 minut mezi lidmi)\n14:00 KAŠPAR KUBA - Kouzelný klaun (30 minut) (zábavné kouzelnické vystoupení)\n15:30 Loutkové divadlo KUBKO -  Zvířátka a loupežníci (45 minut\, loutkové představení s písničkami)\n17:00 Divadlo KUBKO - Verbováníčko (30 minut) - (interaktivní rytířská hra se zapojením publika\, dětí) \n Neděle 7. 7. 2024\n10:00             MŠE SVATÁ\n11:30 - 12:15 Loutkové divadlo KUBKO - Perníková chaloupka (45 minut\, loutkové představení s písničkami)\n12:00 - 18:00 Dřevěná herní dílna KAŠPAŘI - kuličkodráha\, střelba na dřevěný hrad a další (interaktivní barevné dovednostní hry\, 5 her)\n13:00 - 13:30 Umění mistra chůdaře (30 minut mezi lidmi)\n14:00 - 14:45 KAŠPAR KUBA - Kejkle se vším (ne)možným (45 minut) (zábavné kouzelnické vystoupení)\n15:00 - 16:00 hudební skupina Čeměřice\n15:30 - 16:00 Umění mistra chůdaře - bubliny na chůdách (30 minut. mezi lidmi během hraní hudební skupiny)\n16:00 - 16:30 Divadlo KUBKO - O Bajajovi (30 minut\, interaktivní hra se zapojením publika\, dětí)\n17:00 - 17:30 Žonglérská dílna KAŠPAR KUBA - žonglování a obří bubliny (30 minut\, interaktivní herna\, zapojení dětí\, publika\, možnost si vše aktivně vyzkoušet)\n \n \n \n• řemeslníci • kejklíři • potulní herci • kramáři a obchodníci • kolotoče • speciální kostýmované prohlídky
LOCATION:Třebíč
END:VEVENT
END:VCALENDAR