BEGIN:VCALENDAR
VERSION:2.0
CALSCALE:GREGORIAN
PRODID:-//MyApp//Calendar 1.0//EN
BEGIN:VEVENT
METHOD:PUBLISH
UID:44647@regionalniportaly.cz
DTSTAMP:20260422T082501Z
DTSTART;VALUE=DATE:20240824
DTEND;VALUE=DATE:20240825
SUMMARY:Cimbálová muzika na terase kostela
DESCRIPTION:Srdečně vás zveme na&nbsp\;přátelské posezené na terase kostela s cimbálovou muzikou.&nbsp\; K&nbsp\;poslechu nám bude hrát&nbsp\;Cimbálová&nbsp\;muziky pod vedením Petra Hudečka.&nbsp\;V&nbsp\; rámci akce bude možnost zakoupit si občerstvení a nápoje.&nbsp\;Přijďte si zazpívat\, občerstvit se a tak využít jedinečné krásy kostelní terasy s nádherným výhledem do zámecké zahrady.&nbsp\;
LOCATION:Jaroměřice nad Rokytnou
END:VEVENT
END:VCALENDAR