BEGIN:VCALENDAR
VERSION:2.0
CALSCALE:GREGORIAN
PRODID:-//MyApp//Calendar 1.0//EN
BEGIN:VEVENT
METHOD:PUBLISH
UID:44787@regionalniportaly.cz
DTSTAMP:20260419T211740Z
DTSTART;VALUE=DATE:20240724
DTEND;VALUE=DATE:20240901
SUMMARY:Příběhy světla a stínu
DESCRIPTION:
LOCATION:Třebíč
END:VEVENT
END:VCALENDAR