BEGIN:VCALENDAR
VERSION:2.0
CALSCALE:GREGORIAN
PRODID:-//MyApp//Calendar 1.0//EN
BEGIN:VEVENT
METHOD:PUBLISH
UID:44796@regionalniportaly.cz
DTSTAMP:20260422T082410Z
DTSTART;VALUE=DATE:20240801
DTEND;VALUE=DATE:20240802
SUMMARY:Soumrak antibiotik
DESCRIPTION:
LOCATION:Třebíč
END:VEVENT
END:VCALENDAR