BEGIN:VCALENDAR
VERSION:2.0
CALSCALE:GREGORIAN
PRODID:-//MyApp//Calendar 1.0//EN
BEGIN:VEVENT
METHOD:PUBLISH
UID:45191@regionalniportaly.cz
DTSTAMP:20260421T133817Z
DTSTART;VALUE=DATE:20241005
DTEND;VALUE=DATE:20241006
SUMMARY:Baroko v bazilice
DESCRIPTION:Premiéra Mše ke sv. Prokopovi F. V. Habermanna s ČRo Vltava&nbsp\;v podání Czech Ensemble Baroque&nbsp\;pod vedením dirigenta Romana Válka.
LOCATION:Třebíč
END:VEVENT
END:VCALENDAR