BEGIN:VCALENDAR
VERSION:2.0
CALSCALE:GREGORIAN
PRODID:-//MyApp//Calendar 1.0//EN
BEGIN:VEVENT
METHOD:PUBLISH
UID:45385@regionalniportaly.cz
DTSTAMP:20260419T193321Z
DTSTART;VALUE=DATE:20240829
DTEND;VALUE=DATE:20240830
SUMMARY:Streetcamp
DESCRIPTION:
LOCATION:Třebíč
END:VEVENT
END:VCALENDAR