BEGIN:VCALENDAR
VERSION:2.0
CALSCALE:GREGORIAN
PRODID:-//MyApp//Calendar 1.0//EN
BEGIN:VEVENT
METHOD:PUBLISH
UID:45662@regionalniportaly.cz
DTSTAMP:20260422T112243Z
DTSTART;VALUE=DATE:20240922
DTEND;VALUE=DATE:20240923
SUMMARY:SCARLATTI & LOTTI: MADRIGALI
DESCRIPTION:PROGRAM A. Scarlatti: Madrigali a 5 voci (výběr)\,A. Lotti: Duetti\, Terzetti a Madrigali a piú voci (výběr)+ÚČINKUJE Ensemble Baroque Quintet&nbsp\;Dva následovníci největších mistrů v dějinách madrigalu -Monteverdiho a Gesualda - se svými jedinečnými\, ale takřkaneznámými madrigaly.
LOCATION:Třebíč
END:VEVENT
END:VCALENDAR