BEGIN:VCALENDAR
VERSION:2.0
CALSCALE:GREGORIAN
PRODID:-//MyApp//Calendar 1.0//EN
BEGIN:VEVENT
METHOD:PUBLISH
UID:45663@regionalniportaly.cz
DTSTAMP:20260422T154905Z
DTSTART;VALUE=DATE:20241204
DTEND;VALUE=DATE:20241205
SUMMARY:Jauchzet dem Herrn
DESCRIPTION:PROGRAM:G. Gabrielli\, H. Schütz\, J. S. Bach\, B. Britten\, F. Mendelssohn: Jauchzet dem Herrn/Jubilate Deo&nbsp\;ÚČINKUJÍ:CZECH ENSEMBLE BAROQUE CHOIRSBORMISTR Tereza Válková
LOCATION:Třebíč
END:VEVENT
END:VCALENDAR