BEGIN:VCALENDAR
VERSION:2.0
CALSCALE:GREGORIAN
PRODID:-//MyApp//Calendar 1.0//EN
BEGIN:VEVENT
METHOD:PUBLISH
UID:45686@regionalniportaly.cz
DTSTAMP:20260422T140739Z
DTSTART;VALUE=DATE:20241219
DTEND;VALUE=DATE:20241220
SUMMARY:Jan Jakub Ryba: Česká mše Vánoční
DESCRIPTION:PROGRAM:J. J. Ryba: Cantate Domino\, Šestero písní Vánočních\, Česká mše Vánoční „Hej\, mistře!”&nbsp\;ÚČINKUJÍ:CZECH ENSEMBLE BAROQUE ORCHESTRA &amp\; CHOIRDIRIGENT Roman VálekSBORMISTR Tereza Válková
LOCATION:Třebíč
END:VEVENT
END:VCALENDAR