BEGIN:VCALENDAR
VERSION:2.0
CALSCALE:GREGORIAN
PRODID:-//MyApp//Calendar 1.0//EN
BEGIN:VEVENT
METHOD:PUBLISH
UID:45692@regionalniportaly.cz
DTSTAMP:20260422T113301Z
DTSTART;VALUE=DATE:20241005
DTEND;VALUE=DATE:20241006
SUMMARY:Musica Animata - jubilejní koncert
DESCRIPTION:Srdečně vás zveme na jubilejní koncert&nbsp\;k 2. výročí slavnostního otevření&nbsp\;kostela&nbsp\;svaté Markéty&nbsp\;po opravě.Vystoupí třebíčský sbor Musica Animata v doprovodu Malého smyčcového&nbsp\;orchestru Třebíč.Těšit se můžete na moderní styl duchovní hudby s prvky ethno a world music\, jazzu i klasické hudby.V průběhu koncertu sbor využije i prostory horních balkónů\,&nbsp\;původně určené právě&nbsp\;pro zpěváky.Tím se vám přiblíží vyjímečná akustika&nbsp\;celého nově opraveného prostoru kostela.Nenechte si ujít tento jedinečný&nbsp\;zážitek.&nbsp\;Vstupenky zakoupíte online nebo na pokladně kostela.&nbsp\;
LOCATION:Jaroměřice nad Rokytnou
END:VEVENT
END:VCALENDAR