BEGIN:VCALENDAR
VERSION:2.0
CALSCALE:GREGORIAN
PRODID:-//MyApp//Calendar 1.0//EN
BEGIN:VEVENT
METHOD:PUBLISH
UID:45917@regionalniportaly.cz
DTSTAMP:20260421T144523Z
DTSTART;VALUE=DATE:20241102
DTEND;VALUE=DATE:20241103
SUMMARY:Adoptujte strom
DESCRIPTION:
LOCATION:Třebíč
END:VEVENT
END:VCALENDAR