BEGIN:VCALENDAR
VERSION:2.0
CALSCALE:GREGORIAN
PRODID:-//MyApp//Calendar 1.0//EN
BEGIN:VEVENT
METHOD:PUBLISH
UID:45967@regionalniportaly.cz
DTSTAMP:20260419T180032Z
DTSTART;VALUE=DATE:20240912
DTEND;VALUE=DATE:20240913
SUMMARY:4Cellos Bach (To) Rock
DESCRIPTION:18.00 hod. – Foyer divadla Pasáž              I. koncert KPH\nMICHAL GRECO\, ALŽBĚTA POUKAROVÁ-ROLEČKOVÁ\, MARTINA KLIMEŠOVÁ\, RUDOLF MRAZÍK\nObjevte krásu zvuku violoncell prostřednictvím brněnského souboru profesionálních hudebníků\, jejichž repertoár zahrnuje nejen díla z klasické hudby\, ale také pop\, rock\, jazz (ragtime) a filmovou tvorbu.\n4cellos netradiční seskupení violoncellistů z Brna působící od roku 2014 převážně v základním obsazení kvarteta\, které ovšem často působí i v obsazení dvou až šesti hráčů. Soubor interpretuje\, vždy v rámci projektů\, hudbu různých stylových žánrů od barokní hudby po hudbu současnou včetně filmových melodií a snaží se tak přinést nový zážitek z poslechu hudby v originálním souzvuku více violoncell. Soubor se zaměřuje na koncerty duchovní hudby\, koncerty s vokálními sólisty\, výchovné koncerty pro školy\, interpretuje originální transkripce namísto původních nástrojových obsazení.\nVstupné: 220\,-  děti\, studenti\, senioři: 180\,-\nPředprodej od 26. 8. 2024
LOCATION:Třebíč
END:VEVENT
END:VCALENDAR