BEGIN:VCALENDAR
VERSION:2.0
CALSCALE:GREGORIAN
PRODID:-//MyApp//Calendar 1.0//EN
BEGIN:VEVENT
METHOD:PUBLISH
UID:45968@regionalniportaly.cz
DTSTAMP:20260419T180130Z
DTSTART;VALUE=DATE:20240917
DTEND;VALUE=DATE:20240918
SUMMARY:Jeff McErlain  & Band (USA)
DESCRIPTION:v 19.00 – Národní dům                   \nJeff McErlain je kytarista z Brooklynu\, známý svým jedinečným\, soulovým stylem hry\, který mísí jazzové vlivy s blues a rockem. Jako ostřílený newyorský hudebník a pedagog se Jeff etabloval jako prominentní postava místní hudební scény. Je členem kapely Robbena Forda a s Fordem nahrál i kritikou oceňované album „Now“. Jeffova spolupráce se postupně rozšířila o partnerství s významnými umělci\, jako jsou Matt Schofield\, Omar Hakim\, Will Lee a další. Jeff\, který vede též svůj vlastní band\, pravidelně uchvacuje publikum svými dynamickými vystoupeními v USA i po celé Evropě.\nV Třebíči vystoupí s populárním Walterem Fischbacherem na klávesy\, Cliffem Schmittem nebo Michaelem Krásným na baskytaru a bubeníkem Ulfem Stickerem nebo Andym Winterem.\nVstupné: 180\,-  \nPředprodej od 20. 8. 2024
LOCATION:Třebíč
END:VEVENT
END:VCALENDAR