BEGIN:VCALENDAR
VERSION:2.0
CALSCALE:GREGORIAN
PRODID:-//MyApp//Calendar 1.0//EN
BEGIN:VEVENT
METHOD:PUBLISH
UID:45969@regionalniportaly.cz
DTSTAMP:20260421T144457Z
DTSTART;VALUE=DATE:20240929
DTEND;VALUE=DATE:20240930
SUMMARY:Svatováclavský koncert
DESCRIPTION:19.00 – Bazilika sv. Prokopa\nKomorní orchestr Virtuosi Trebicenses zahraje tradičně na svatováclavském koncertě v bazilice sv. Prokopa. Program nabídne pestrou škálu komorní orchestrální hudby od baroka po 20. století. Můžete se těšit na skladby od Benjamina Brittena\, Gustava Holsta\, Johanna Sebastiana Bacha a také Leoše Janáčka\, který slaví výročí 170 let od svého narození. Právě výběrem Janáčkovy hudby se orchestr Virtuosi Trebicenses připojí k oslavám Roku české hudby.\n \nVstupné: 180\,-  děti\, studenti\, senioři: 140\,-\nPředprodej od 2. 9. 2024
LOCATION:Třebíč
END:VEVENT
END:VCALENDAR