BEGIN:VCALENDAR
VERSION:2.0
CALSCALE:GREGORIAN
PRODID:-//MyApp//Calendar 1.0//EN
BEGIN:VEVENT
METHOD:PUBLISH
UID:45973@regionalniportaly.cz
DTSTAMP:20260422T112216Z
DTSTART;VALUE=DATE:20241005
DTEND;VALUE=DATE:20241006
SUMMARY:Diskotéka v Třebíči | ZNOVU VE VĚKU ⭐️
DESCRIPTION:Diskotéka je zpět. Těšíme se na vás v sobotu 5. 10. 2024\, od 21:30. To nejlepší od 80. let až po současnost. \n \n5. 10. 2024\, 21:30–3:00Club Titanic - Grand Hotel\, Karlovo náměstí 133/5\, TřebíčDJ Karel KonvalinaFotografkaRetro klub\, drinky\, dekorace a hlavně skvělá atmosféra!\n \nDoporučený věk od 25 let. Vstupenky na místě za 190\,-\n \nSledujte naše facebookové a instagramové stránky pro více informací. @znovuveveku
LOCATION:Třebíč
END:VEVENT
END:VCALENDAR