BEGIN:VCALENDAR
VERSION:2.0
CALSCALE:GREGORIAN
PRODID:-//MyApp//Calendar 1.0//EN
BEGIN:VEVENT
METHOD:PUBLISH
UID:46124@regionalniportaly.cz
DTSTAMP:20260422T111228Z
DTSTART;VALUE=DATE:20241011
DTEND;VALUE=DATE:20241012
SUMMARY:Koncert: Michajlov
DESCRIPTION:
LOCATION:Třebíč
END:VEVENT
END:VCALENDAR