BEGIN:VCALENDAR
VERSION:2.0
CALSCALE:GREGORIAN
PRODID:-//MyApp//Calendar 1.0//EN
BEGIN:VEVENT
METHOD:PUBLISH
UID:46125@regionalniportaly.cz
DTSTAMP:20260422T141004Z
DTSTART;VALUE=DATE:20241025
DTEND;VALUE=DATE:20241026
SUMMARY:Koncert: J.A.R.
DESCRIPTION:
LOCATION:Třebíč
END:VEVENT
END:VCALENDAR