BEGIN:VCALENDAR
VERSION:2.0
CALSCALE:GREGORIAN
PRODID:-//MyApp//Calendar 1.0//EN
BEGIN:VEVENT
METHOD:PUBLISH
UID:46126@regionalniportaly.cz
DTSTAMP:20260422T124345Z
DTSTART;VALUE=DATE:20241116
DTEND;VALUE=DATE:20241117
SUMMARY:Visací Zámek – support Vision Days
DESCRIPTION:
LOCATION:Třebíč
END:VEVENT
END:VCALENDAR