BEGIN:VCALENDAR
VERSION:2.0
CALSCALE:GREGORIAN
PRODID:-//MyApp//Calendar 1.0//EN
BEGIN:VEVENT
METHOD:PUBLISH
UID:46127@regionalniportaly.cz
DTSTAMP:20260422T124324Z
DTSTART;VALUE=DATE:20241122
DTEND;VALUE=DATE:20241123
SUMMARY:Ca$hanova Bulhar
DESCRIPTION:
LOCATION:Třebíč
END:VEVENT
END:VCALENDAR