BEGIN:VCALENDAR
VERSION:2.0
CALSCALE:GREGORIAN
PRODID:-//MyApp//Calendar 1.0//EN
BEGIN:VEVENT
METHOD:PUBLISH
UID:46129@regionalniportaly.cz
DTSTAMP:20260422T140838Z
DTSTART;VALUE=DATE:20241213
DTEND;VALUE=DATE:20241214
SUMMARY:Koncert: Morčata na útěku
DESCRIPTION:
LOCATION:Třebíč
END:VEVENT
END:VCALENDAR