BEGIN:VCALENDAR
VERSION:2.0
CALSCALE:GREGORIAN
PRODID:-//MyApp//Calendar 1.0//EN
BEGIN:VEVENT
METHOD:PUBLISH
UID:46303@regionalniportaly.cz
DTSTAMP:20260421T223602Z
DTSTART;VALUE=DATE:20240928
DTEND;VALUE=DATE:20240929
SUMMARY:Sushi - All you can eat
DESCRIPTION:Sushi - sněz co můžeš. Přijďte si užít neomezenou nabídku sushi\, thajské polévky a dalších specialit. Vše Vám osobně předvede sushi mistr Tomáš Svoboda. Objednejte si své místo včas. Akce je v restauraci DON v Třebíči. Další informace najdete na 
LOCATION:Třebíč
END:VEVENT
END:VCALENDAR