BEGIN:VCALENDAR
VERSION:2.0
CALSCALE:GREGORIAN
PRODID:-//MyApp//Calendar 1.0//EN
BEGIN:VEVENT
METHOD:PUBLISH
UID:46401@regionalniportaly.cz
DTSTAMP:20260422T112202Z
DTSTART;VALUE=DATE:20241006
DTEND;VALUE=DATE:20241007
SUMMARY:Miniopery pro rodiče s dětmi
DESCRIPTION:16.00 – Divadlo Pasáž                        \nMORAVSKÉ DIVADLO OLOMOUC\n \nPohádkové miniopery: Šípková Růženka\, Budulínek a Karkulka\nZachrání princ Růženku? Chytila babička s dědečkem proradnou lišku a jak to vlastně dopadlo s vlkem a Karkulkou? Přijďte to zjistit k nám do divadla!  \nZnámá autorská dvojice Jaroslav Uhlíř a Zdeněk Svěrák napsala spolu stovky písniček\, které si doma zpívají a budou zpívat ještě mnoho generací. K jejich tvorbě neodmyslitelně patří i tři pohádkové miniopery: Šípková Růženka\, Budulínek a Karkulka. Inscenaci uvádíme pro malé i velké\, kteří mají rádi pohádkový svět plný dobrodružství a krásných písniček.   \nDoporučená přístupnost je pro děti od 4 let.\n \nVstupné: 200\,- \nVstupenky již v prodeji
LOCATION:Třebíč
END:VEVENT
END:VCALENDAR