BEGIN:VCALENDAR
VERSION:2.0
CALSCALE:GREGORIAN
PRODID:-//MyApp//Calendar 1.0//EN
BEGIN:VEVENT
METHOD:PUBLISH
UID:46402@regionalniportaly.cz
DTSTAMP:20260422T154218Z
DTSTART;VALUE=DATE:20241008
DTEND;VALUE=DATE:20241009
SUMMARY:Kateřina Tučková: Vyhnání Gerty Schnirch
DESCRIPTION:19.00 hod. – Divadlo Pasáž                       II. představení sk. A\nPARTIDA z. s. PRAHA\n \nHrají: Ivana Machalová\, Irena Kristeková\, Jaroslava Košková\, Aneta Kalertová\, Karolína Půčková\, Magdalena Jirounková\, Taťána Havlová\, Zuzana Částková\, Kateřina Zapletalová\, Luciána Tomášová\, Michaela Schönová\, Michal Kern / Dušan Kraus Režie: Diana Šoltýsová\nDramatizace oceňovaného románu Kateřiny Tučkové. Příběh o jednom osudu zlomeném dějinami\, o vině Čechů a Němců\, o tom\, zda je možno odpustit a porozumět. Příběh jedné „malé“ a obyčejné ženy\, jejíž život několikrát převrátí naruby „velké“ a dramatické dějiny 20. století – od protektorátu přes poválečné divoké odsuny až po nástup brutálního „osvoboditelského“ režimu. Příběh o chybách\, které by se už neměly opakovat...\nVstupné: 420\,- / 450\,-\nPřípadně zbylé vstupenky již v prodeji od 19. 9. 2024
LOCATION:Třebíč
END:VEVENT
END:VCALENDAR