BEGIN:VCALENDAR
VERSION:2.0
CALSCALE:GREGORIAN
PRODID:-//MyApp//Calendar 1.0//EN
BEGIN:VEVENT
METHOD:PUBLISH
UID:46404@regionalniportaly.cz
DTSTAMP:20260422T003731Z
DTSTART;VALUE=DATE:20241014
DTEND;VALUE=DATE:20241015
SUMMARY:Seafoam Green (Irsko/CZ)
DESCRIPTION:19.00 – Národní dům                      \n \nDave O'Grady (UK) – kytara\, zpěv\, Muz alias Muireann McDermott Long (UK) – zpěv\, Jan Jakubec – baskytara\, Tomáš Hobzek – bicí\nSeafoam Green – základ uskupení tvoří zpěvák a kytarista Dave O’Grady a zpěvačka Murieann McDermott Long.  Specializují na to\, čemu dnes říkáme Americana. Pokud chcete blues\, gospel a folk\, mají ho ve své stálé nabídce. Ale to\, co ve skutečnosti dovedli k dokonalosti již na dvou vydaných albech a bezpočtu klubových i festivalových koncertů\, je zvuk slavného rock n’ soul revivalu. Kapela je v současné době v nahrávacím studiu a vytváří své třetí album\, na kterém hostuje kytarista The Rolling Stones\, pan Ronnie Wood. \nVstupné: 180\,-  \nPředprodej od 16. 9. 2024
LOCATION:Třebíč
END:VEVENT
END:VCALENDAR