BEGIN:VCALENDAR
VERSION:2.0
CALSCALE:GREGORIAN
PRODID:-//MyApp//Calendar 1.0//EN
BEGIN:VEVENT
METHOD:PUBLISH
UID:46405@regionalniportaly.cz
DTSTAMP:20260422T023140Z
DTSTART;VALUE=DATE:20241015
DTEND;VALUE=DATE:20241016
SUMMARY:Klavírní recitál Adama Závodského
DESCRIPTION:18.00 hod. – Foyer divadla Pasáž                                                         II. koncert KPH\n \nVirtuózní koncert mladého pianisty\, držitele prestižních ocenění\, nabídne hudbu od klasicismu po současnost.\nAdam Závodský je absolventem Konzervatoře v Českých Budějovicích u MgA. Magdy Štajnochrové a  mistrovských kurzů na JAMU ve třídách prof. Františka Novotného (komorní hra) a prof. Jana Jiraského\, v jehož třídě nyní ukončuje magisterské studium. Vystudoval rovněž obor skladba na Pražské konzervatoři pod vedením MgA. Jiřího Gemrota. Je držitelem několika ocenění v národních i mezinárodních soutěžích. V roce 2022 obdržel 2. cenu a Cenu za nejlepší interpretaci díla Leoše Janáčka v Mezinárodní soutěži Leoše Janáčka Brno\, v r. 2019 3. cenu v Interpretační soutěži Nadace Bohuslava Martinů a 2. cenu v mezinárodní klavírní soutěži 21st Century Art Competition\, Vídeň Klosterneuburg. Několikrát byl oceněn také v Mezinárodní Novákově klavírní soutěži. Získal zde 1. cenu v letech 2014 a 2015\, kdy mu byla udělena také Cena za nejlepší interpretaci skladby Oskara Nedbala\, a v roce 2013 2. cenu a Cenu Antonína Kubálka. Věnuje se také pedagogické a publikační činnosti. Každoročně např. přednáší ve vzdělávacím cyklu U3V HF JAMU „Básníci klavíru“.\nVstupné: 220\,-  děti\, studenti\, senioři: 180\,-\nPředprodej od 17. 9. 2024
LOCATION:Třebíč
END:VEVENT
END:VCALENDAR