BEGIN:VCALENDAR
VERSION:2.0
CALSCALE:GREGORIAN
PRODID:-//MyApp//Calendar 1.0//EN
BEGIN:VEVENT
METHOD:PUBLISH
UID:46406@regionalniportaly.cz
DTSTAMP:20260422T005815Z
DTSTART;VALUE=DATE:20241017
DTEND;VALUE=DATE:20241018
SUMMARY:Poutníci " Přes 50 let v country"
DESCRIPTION:19.00 – Národní dům                                                                               I. koncert HS      \nHudební skupina Poutníci\, která v roce 2020 slavila 50 let od svého vzniku\, přiváží pořad „Přes 50 let v country“ v obsazení Petr Vošta – banjo\, Jakub Bílý – zpěv\, Jan Máca – mandolína\, zpěv a Jiří Pola – Karas – Elektrický kontrabas\, zpěv\, kapelník.\nSoubor vydal za dobu svojí činnosti 16 CD nebo LP\, poslední nosič si kapela produkovala sama a jmenuje se „Stíny na střechách.“ CD je složené z novinek\, které napsali sami současní poutničtí hudebníci. Jedinou výjimkou\, co se týče dlouhověkosti\, je úvodní píseň\, podle které se deska jmenuje. Texty k většině nových skladeb napsal textař z Trutnova – David Konopáč\nProgram poutnického vystoupení je tvořen z písní ze zmíněného CD\, ale hlavně z poutnických hitů\, které se jmenují Panenka\, Pojďme se napít\, Hotel Hillary a řadou dalších\, dnes už se dá říct zlidovělých kusů. A právě tyto na vás budou čekat během koncertu Poutníků s názvem „Přes 50 let v country.“ \nVstupné: 210 / 220 / 230 Kč\nPředprodej od 19. 9. 2024
LOCATION:Třebíč
END:VEVENT
END:VCALENDAR