BEGIN:VCALENDAR
VERSION:2.0
CALSCALE:GREGORIAN
PRODID:-//MyApp//Calendar 1.0//EN
BEGIN:VEVENT
METHOD:PUBLISH
UID:46508@regionalniportaly.cz
DTSTAMP:20260422T140827Z
DTSTART;VALUE=DATE:20241213
DTEND;VALUE=DATE:20241214
SUMMARY:Tomáš Klus Vánoce 365 dní v roce
DESCRIPTION:Srdečně vás zveme na&nbsp\;koncert&nbsp\;Vánoce 365 dní v roce v podání Tomáše Kluse a Jiřího Kučerovského&nbsp\;v jedinečném prostoru barokního kostela svaté Markéty v Jaroměřicích nad Rokytnou.Nenechte si ujít tento&nbsp\;zážitek&nbsp\;v tak výjimečném prostoru.&nbsp\;
LOCATION:Jaroměřice nad Rokytnou
END:VEVENT
END:VCALENDAR