BEGIN:VCALENDAR
VERSION:2.0
CALSCALE:GREGORIAN
PRODID:-//MyApp//Calendar 1.0//EN
BEGIN:VEVENT
METHOD:PUBLISH
UID:46720@regionalniportaly.cz
DTSTAMP:20260422T204312Z
DTSTART;VALUE=DATE:20250204
DTEND;VALUE=DATE:20250205
SUMMARY:Valentýn stand-up show Miloše Knora
DESCRIPTION:STAND-UP VALENTÝN SHOW&nbsp\;(aneb láska je kurva)\, ve speciální limitované tour po největších městech a sálech\, právě v termínu kolem svátku všech zamilovaných\, svatého Valentýna.Miloš s vámi probere nejen to\, jak se na takový svátek připravit\, ale i to\, jak ho zvládnout s bravurou\, elegancí a vtipem a zavděčit se své ženě\, přítelkyni\, příteli\, sousedovi\, prostě komukoliv. Nezapomene ani na vytříbenou etiketu k ženě\, či muži a projde s vámi vše co se mužsko-ženských vztahů a svátků týká. Ať už se jedná o oslavu Valentýna\, MDŽ\, nebo Mezinárodního dne orálního sexu.Pokud hledáte způsob jak strávit kvalitně večer s možností posunout své vztahové dovednosti\, je STAND-UP VALENTÝN SHOW Miloše Knora představení právě pro vás. Ať už jako dárek k Valentýnu\, Vánocům\, nebo za trest.www.standupshow.czwww.standupshow.cz/milos-knor
LOCATION:Třebíč
END:VEVENT
END:VCALENDAR