BEGIN:VCALENDAR
VERSION:2.0
CALSCALE:GREGORIAN
PRODID:-//MyApp//Calendar 1.0//EN
BEGIN:VEVENT
METHOD:PUBLISH
UID:46774@regionalniportaly.cz
DTSTAMP:20260419T161842Z
DTSTART;VALUE=DATE:20241010
DTEND;VALUE=DATE:20241011
SUMMARY:Den otevřených dveří na Hájku
DESCRIPTION:
LOCATION:Třebíč
END:VEVENT
END:VCALENDAR