BEGIN:VCALENDAR
VERSION:2.0
CALSCALE:GREGORIAN
PRODID:-//MyApp//Calendar 1.0//EN
BEGIN:VEVENT
METHOD:PUBLISH
UID:46895@regionalniportaly.cz
DTSTAMP:20260422T141023Z
DTSTART;VALUE=DATE:20241020
DTEND;VALUE=DATE:20241021
SUMMARY:Kam se poděl Bůh
DESCRIPTION:Beseda o knize Michaely LinkovéKam se poděl Bůh\nKniha vypráví příběh strýce autorky Františka Krause\, který prošel za 2. světové války peklem koncentračních táborů. Po osvobození odešel bojovat do Izraele a byl za to v padesátých letech vězněn.\n \nVystoupí:Michaela Linková – zpěvačka a autorka knihy Hudební doprovod:Petra Křížková – klavír\, Milada Gajdová – violoncelloJörgen North – kytaraDavid Kraus – zpěvák a herec Oba pocházejí z židovské rodiny a kus svého života prožili s příbuzným\, který přežil holocaust.Vyprávění o jejich osudech proloží pěveckým vystoupením.\n \nJednotné vstupné: 150 KčRezervace na: TIC Zadní synagoga\, Subakova 1/44\, 674 01 Třebíč\,tel.: 568 610 023\, e-mail: infosynagoga@mkstrebic.cz\n \nKnihu „Kam se poděl Bůh“ bude možné zakoupit na místě.
LOCATION:Třebíč
END:VEVENT
END:VCALENDAR