BEGIN:VCALENDAR
VERSION:2.0
CALSCALE:GREGORIAN
PRODID:-//MyApp//Calendar 1.0//EN
BEGIN:VEVENT
METHOD:PUBLISH
UID:46922@regionalniportaly.cz
DTSTAMP:20260422T124354Z
DTSTART;VALUE=DATE:20241110
DTEND;VALUE=DATE:20241111
SUMMARY:Podzimní koncert Virtuosi Trebicenses
DESCRIPTION:Komorní orchestr Virtuosi Trebicenses pokračuje v letošní sezóně dalším koncertem\, kterým se vrací do krásného prostoru Kamenného sálu Zámku Třebíč.Program nabídne pestrou škálu komorní orchestrální hudby od baroka pod 20. století. Jako host vystoupí skvělá třebíčský klavírista Kamil El-Ahmadieh a flétnistka Klára Janatová. Společně s orchestrem přednesou skladbu Daniela Hellbacha - Concerto. Švýcarského hudebního pedagoga a skladatele jehož hudební styl kombinuje prvky populární\, rockové i jazzové hudby společně s hudbou klasickou.&nbsp\; Skladba Concerto pro altovou flétnu\, klavír a orchestr bude jistě zajímavá a moc se na ni těšíme.Srdečně zveme !!
LOCATION:Třebíč
END:VEVENT
END:VCALENDAR