BEGIN:VCALENDAR
VERSION:2.0
CALSCALE:GREGORIAN
PRODID:-//MyApp//Calendar 1.0//EN
BEGIN:VEVENT
METHOD:PUBLISH
UID:46993@regionalniportaly.cz
DTSTAMP:20260422T160851Z
DTSTART;VALUE=DATE:20250205
DTEND;VALUE=DATE:20250206
SUMMARY:Hudba Ludovica Einaudiho při svíčkách
DESCRIPTION:Nenechte si ujít nezapomenutelný večer krásné hudby\, kde zazní melodie jednoho z nejlepších pianistů a skladatelů na světe\, Ludovica Einaudiho&nbsp\;v podání mezinárodně proslulým pianistou&nbsp\;Alexandrem&nbsp\;Starým.&nbsp\;Světlo stovky svíček vytvoří nezapomenutelnou atmosféru koncertu.Einaudi je známý svými jednoduchými\, ale strašidelně krásnými minimalistickými díly pro klavír a ohromující filmovou hudbou. Za téměř třicet let své činnosti vydal řadu alb\, která se dostala na přední příčky poslechovosti\, vyprodává nejprestižnější koncertní sály po celém světě a jeho hudba zazněla v mnoha slavných filmech (Nedotknutelní\, Doktor Živago\, To je Anglie\, Nomadland a další).Tento výjimečný koncert nabídne mnohem víc než jen hudbu. Stovky třpytivých svíček rozzáří celý prostor a dodají večeru mystickou a kouzelnou atmosféru. Každá z nich přispěje k vytvoření magického prostředí\, které dokonale umocní celý hudební zážitek.V rámci Evropské tour alternují také: František Panáček a Lucie Kubátová.&nbsp\;
LOCATION:Třebíč
END:VEVENT
END:VCALENDAR